BEGIN:VCALENDAR
VERSION:2.0
PRODID:-//wp-events-plugin.com//7.2.3.1//EN
BEGIN:VEVENT
UID:6@sarahsiddonsfanclub.org.uk
DTSTART:20250118T140000Z
DTEND:20250118T153000Z
DTSTAMP:20241217T235828Z
URL:https://sarahsiddonsfanclub.org.uk/events/a-brief-history-of-st-johns-
 hedge-end/
SUMMARY:A Brief history of St John's\, Hedge End
DESCRIPTION: The Fan Club have been asked to put on a very special performa
 nce celebrating the 150th anniversary of the founding of St John's Church.
   Join us for a special indoor static performance in the Underhill Centre
  as we tell the story of the building of the church and some of the many i
 nhabitents that have graced it's stone walls.\n\nTickets for the show are 
 being managed by the Church.  For tickets (£5 each) contact the parish o
 ffice on 01489 790048.
ATTACH;FMTTYPE=image/jpeg:https://sarahsiddonsfanclub.org.uk/wp-content/up
 loads/2024/12/DSCN1689-scaled-e1734479352570.jpg
END:VEVENT
END:VCALENDAR