BEGIN:VCALENDAR
VERSION:2.0
PRODID:-//wp-events-plugin.com//7.2.3.1//EN
BEGIN:VEVENT
UID:1@sarahsiddonsfanclub.org.uk
DTSTART:20230704T190000Z
DTEND:20230706T210000Z
DTSTAMP:20230607T221034Z
URL:https://sarahsiddonsfanclub.org.uk/events/a-funny-thing-happened-on-th
 e-way-to-the-conquest/
SUMMARY:A Funny Thing Happened on the Way to the Conquest
DESCRIPTION:Join us as we tell the tale of almost 1000 years of history of 
 St Michael's Church.\n\nMeet our Nasty Norman\, Surely Saxons plus all the
  great and the good who have been in to this remarkable medieval church.
ATTACH;FMTTYPE=image/jpeg:https://sarahsiddonsfanclub.org.uk/wp-content/up
 loads/2023/05/Conquest-scaled-e1686171648117.jpg
LOCATION:St Michael's Church\, Bugle Street\, Southampton\, Hampshire\, SO1
 4 2DX\, United Kingdom
X-APPLE-STRUCTURED-LOCATION;VALUE=URI;X-ADDRESS=Bugle Street\, Southampton\
 , Hampshire\, SO14 2DX\, United Kingdom;X-APPLE-RADIUS=100;X-TITLE=St Mich
 ael's Church:geo:0,0
END:VEVENT
END:VCALENDAR