BEGIN:VCALENDAR
VERSION:2.0
PRODID:-//wp-events-plugin.com//7.2.3.1//EN
BEGIN:VEVENT
UID:3@sarahsiddonsfanclub.org.uk
DTSTART;TZID=Europe/London:20240702T191500
DTEND;TZID=Europe/London:20240704T211500
DTSTAMP:20240526T115727Z
URL:https://sarahsiddonsfanclub.org.uk/events/a-land-of-pure-delight/
SUMMARY:A Land of Pure Delight
DESCRIPTION:The Fan Club are celebrating the 350 anniversary of the birth o
 f the world famous local hymnwriter and all round polymath Isaac Watts.\n\
 nJoin us as we bring to life the lift and times of Isaac Watts who wrote t
 he hymns 'Our God\, Our Help in Ages Past\, Our Hope for Years to Come' (w
 hich is played 4 times a day on the Civic Centre Clock Tower)\, 'When I Su
 rvey the Wondrous Cross and 'Joy to the World' plus many many more.\n\nAs 
 well as hymns\, he also wrote books on geography\, astronomy\, philosophy 
 and logic.\n\nOur theatrical walk is taking place on Tuesday 2nd-Thursday 
 4th July at 7.15pm starting from God's House Tower in Winkle Street.\n\nTh
 e show lasts 90 minutes and will finish at the Bargate.\n\nTickets are jus
 t £7 (inc booking fee) and available from www.wegottickets.com/sarahsiddo
 nsfanclub
ATTACH;FMTTYPE=image/jpeg:https://sarahsiddonsfanclub.org.uk/wp-content/up
 loads/2024/05/Isaac-Watts-Statue-scaled-e1716724572629.jpg
END:VEVENT
BEGIN:VTIMEZONE
TZID:Europe/London
X-LIC-LOCATION:Europe/London
BEGIN:DAYLIGHT
DTSTART:20240331T020000
TZOFFSETFROM:+0000
TZOFFSETTO:+0100
TZNAME:BST
END:DAYLIGHT
END:VTIMEZONE
END:VCALENDAR