BEGIN:VCALENDAR
VERSION:2.0
PRODID:-//wp-events-plugin.com//7.2.3.1//EN
BEGIN:VEVENT
UID:7@sarahsiddonsfanclub.org.uk
DTSTART:20250803T193000Z
DTEND:20250803T210000Z
DTSTAMP:20250225T151427Z
URL:https://sarahsiddonsfanclub.org.uk/events/armada/
SUMMARY:The Reverend Shapcotts Historical Armada Pageant or Hola! Has anybo
 dy seen our ships?
DESCRIPTION:The Reverend Shapcott is on a mission! The vicars of St Marys a
 nd Peartree have been receiving too much attention for their historical pa
 geants\, so the Reverend Shapcott is going to organise one for St Michaels
 ! It is going to be all about the Tudors\, particularly Queen Elizabeth I 
 and the great trials the town suffered in1588! Its the 2nd August 1588 and
  the Spanish are sailing up the Channel\, heading for the Isle of Wight - 
 Southampton is on the Front Line and the Queen has asked for two ships!\n\
 nBit of a problem ... the town only wants to send one\, the mayor is being
  threatened with prison for privateering\, the town is full of plague\, th
 ere are spies everywhere and the beer is running out! Don't Panic! Join t
 he Reverend Shapcott in the battle to save England ... we hope!\n\nTickets
  will be available soon for performances on 3\, 4 &amp\; 5 August\, at 7.3
 0pm starting from St Michael's Square.\n\nAnd that's not all on the 2nd of
  August there will be a study day giving you all the background research o
 n this turbulent time\, you can also take a traditional guided walk on the
  6th August\, download the Discovery &amp\; Empire self-guided walk route\
 , visit God's House Tower and find out more about the town gunners\, with 
 a special discount into the exhibition\, alongside a talk and tower tour o
 n the 7th August.
ATTACH;FMTTYPE=image/jpeg:https://sarahsiddonsfanclub.org.uk/wp-content/up
 loads/2025/01/Sean-Cannon.jpg
END:VEVENT
END:VCALENDAR