BEGIN:VCALENDAR
VERSION:2.0
PRODID:-//wp-events-plugin.com//7.2.3.1//EN
BEGIN:VEVENT
UID:2@sarahsiddonsfanclub.org.uk
DTSTART:20231030T190000Z
DTEND:20231031T203000Z
DTSTAMP:20231016T212601Z
URL:https://sarahsiddonsfanclub.org.uk/events/bloody-royals-halloween-ghos
 t-walk/
SUMMARY:Bloody Royals - Halloween Ghost Walk
DESCRIPTION:\n\nPrepare yourselves for a spine-tingling Halloween experienc
 e like no other\, as the we present "Bloody Royals.” Delve into the sini
 ster past of this historic city\, where Kings and Queens ruled with an iro
 n fist\, and their ghostly legacies still linger in the shadows.\n\nDate: 
 October 30th and 31st\, 2023\nTime: 7:00 PM and 9:00 PM\nLocation: Holyroo
 d Church\, Southampton\n\nSouthampton\, a city steeped in rich history\, h
 as a darker side that has long been shrouded in mystery. Join us on the ee
 rie evenings of October 30th and 31st as we unveil the ghoulish secrets of
  Southampton's infamous royal connections. From King Philip of Spain to He
 nry I\, William Rufus\, Henry II\, Anne Boleyn\, Edward III\, Elizabeth I\
 , Edward VI\, and Henry V – these historical figures left their mark in 
 more ways than one.\nThe Sarah Siddons Fan Club\, known for its captivatin
 g historical theatrical wanderings\, will transport you back in time to wi
 tness the chilling events that took place in Southampton's past. Through a
  series of haunting performances\, the club will resurrect these revolting
  historical figures\, allowing audiences to come face-to-face with the gho
 sts of Southampton's royal past.\n\nTickets 6 available from www.wegottick
 ets.com/sarahsiddonsfanclub
ATTACH;FMTTYPE=image/jpeg:https://sarahsiddonsfanclub.org.uk/wp-content/up
 loads/2023/09/Bloody-Royals-Header.jpg
LOCATION:St Michael's Church\, Bugle Street\, Southampton\, Hampshire\, SO1
 4 2DX\, United Kingdom
X-APPLE-STRUCTURED-LOCATION;VALUE=URI;X-ADDRESS=Bugle Street\, Southampton\
 , Hampshire\, SO14 2DX\, United Kingdom;X-APPLE-RADIUS=100;X-TITLE=St Mich
 ael's Church:geo:0,0
END:VEVENT
END:VCALENDAR