BEGIN:VCALENDAR
VERSION:2.0
PRODID:-//wp-events-plugin.com//7.2.3.1//EN
BEGIN:VEVENT
UID:4@sarahsiddonsfanclub.org.uk
DTSTART;TZID=Europe/London:20241030T193000
DTEND;TZID=Europe/London:20241101T210000
DTSTAMP:20241004T020734Z
URL:https://sarahsiddonsfanclub.org.uk/events/hubble-bubble-here-comes-tro
 uble-halloween-ghost-walk/
SUMMARY:Hubble Bubble - Here comes trouble - Halloween Ghost Walk
DESCRIPTION:A Halloween Theatrical Ghost Walk showcasing true stories from 
 Southampton's history.
ATTACH;FMTTYPE=image/jpeg:https://sarahsiddonsfanclub.org.uk/wp-content/up
 loads/2024/10/Hubble.jpg
LOCATION:Holyrood Church\, High Street\, Southampton\, Hampshire\, SO14 3AU
 \, United Kingdom
X-APPLE-STRUCTURED-LOCATION;VALUE=URI;X-ADDRESS=High Street\, Southampton\,
  Hampshire\, SO14 3AU\, United Kingdom;X-APPLE-RADIUS=100;X-TITLE=Holyrood
  Church:geo:0,0
END:VEVENT
BEGIN:VTIMEZONE
TZID:Europe/London
X-LIC-LOCATION:Europe/London
BEGIN:STANDARD
DTSTART:20241027T010000
TZOFFSETFROM:+0100
TZOFFSETTO:+0000
TZNAME:GMT
END:STANDARD
END:VTIMEZONE
END:VCALENDAR