BEGIN:VCALENDAR
VERSION:2.0
PRODID:-//wp-events-plugin.com//7.2.3.1//EN
BEGIN:VEVENT
UID:8@sarahsiddonsfanclub.org.uk
DTSTART:20250504T110000Z
DTEND:20250504T123000Z
DTSTAMP:20250125T122841Z
URL:https://sarahsiddonsfanclub.org.uk/events/jane-austen-nb-there-will-be
 -very-few-dates-in-this-history-jane-austens-history-of-england/
SUMMARY:"NB There will be very few dates in this history": Jane Austen's Hi
 story of England (Southampton).
DESCRIPTION:\n\nCostumed guided walk in the company of the Sarah Siddons Fa
 n Club Theatre.\n\nJoin our costumed guides and take a walk around Old Sou
 thampton. Discover what inspired Jane as a writer\, where she lived\, who 
 her neighbours were\, the latest gossip and where to meet Mr Darcy.\n\nSta
 rting point God’s House Tower\, Winkle Street\, Southampton. SO14 2NY.\n
 \nPre-booking strongly advised.\n\nTickets: 'NB There will be very few Dat
 es in this History'\n\n&nbsp\;
ATTACH;FMTTYPE=image/jpeg:https://sarahsiddonsfanclub.org.uk/wp-content/up
 loads/2025/01/Cheryl-jane.jpg
LOCATION:God's House Tower\, Winkle Street\, Southampton\, SO14 2NY\, Unite
 d Kingdom
X-APPLE-STRUCTURED-LOCATION;VALUE=URI;X-ADDRESS=Winkle Street\, Southampton
 \, SO14 2NY\, United Kingdom;X-APPLE-RADIUS=100;X-TITLE=God's House Tower:
 geo:0,0
END:VEVENT
END:VCALENDAR