BEGIN:VCALENDAR
VERSION:2.0
PRODID:-//wp-events-plugin.com//7.2.3.1//EN
BEGIN:VEVENT
UID:10@sarahsiddonsfanclub.org.uk
DTSTART:20250605T193000Z
DTEND:20250605T210000Z
DTSTAMP:20250125T122830Z
URL:https://sarahsiddonsfanclub.org.uk/events/jane-austens-showtunes-a-mus
 ical-journey-through-the-songs-of-charles-dibdin/
SUMMARY:Jane Austen's Showtunes: A musical journey through the songs of Cha
 rles Dibdin.
DESCRIPTION:“With out Music\, Life would be a blank to me” Emma\n\nThis
  performance celebrates one of Austen's favourite composers\, Southampton'
 s own Charles Dibdin.\n\nTalented local folk musician\, Jeff Henry\, bring
 s to life the Dibdin songs that Austen loved and sang\, while historian\, 
 Nicola Pritchard-Pink\, shares insights into Austen's song collection\, gi
 ving a taste of what performing Dibdin's lively show songs at home might h
 ave been like for this famous author.\n\n7.30pm at St Michael’s Church\,
  Bugle Street\, Southampton. SO14 2AD.\n\nDoors open 7pm\n\nTickets : Jane
  Austen's Show Tunes
ATTACH;FMTTYPE=image/jpeg:https://sarahsiddonsfanclub.org.uk/wp-content/up
 loads/2025/01/Austen-Showtunes.jpeg
LOCATION:St Micheal's Church\, St Micheal's Square\, Southampton\, SO14 2AD
 \, United Kingdom
X-APPLE-STRUCTURED-LOCATION;VALUE=URI;X-ADDRESS=St Micheal's Square\, South
 ampton\, SO14 2AD\, United Kingdom;X-APPLE-RADIUS=100;X-TITLE=St Micheal's
  Church:geo:0,0
END:VEVENT
END:VCALENDAR