BEGIN:VCALENDAR
VERSION:2.0
PRODID:-//wp-events-plugin.com//7.2.3.1//EN
BEGIN:VEVENT
UID:11@sarahsiddonsfanclub.org.uk
DTSTART;VALUE=DATE:20250809
DTEND;VALUE=DATE:20250810
DTSTAMP:20250125T155132Z
URL:https://sarahsiddonsfanclub.org.uk/events/pattens-to-peartree/
SUMMARY:Pattens to Peartree
DESCRIPTION:\n\nRecreating Jane Austen’s walk from Southampton to visit h
 er friends\, the Lance family of Chessel House\, with a stop at the histor
 ic Peartree Church - inspiration for Thomas Gray’s Elegy in a Country Ch
 urchyard.\n\nThis is a 5-mile round trip walk\, starting and ending at St 
 Michael's Church\, Bugle Street\, Southampton at 10.30am with a stop at lu
 nchtime to view Peartree Church.\n\nBring a packed lunch.\n\nTeas and Coff
 ees will be available at Peartree.\n\nTickets Pattens to Peartree
ATTACH;FMTTYPE=image/jpeg:https://sarahsiddonsfanclub.org.uk/wp-content/up
 loads/2025/01/peatree.jpg
LOCATION:St Micheal's Church\, Bugle Street\, Southampton\, SO14 3AD\, Unit
 ed Kingdom
X-APPLE-STRUCTURED-LOCATION;VALUE=URI;X-ADDRESS=Bugle Street\, Southampton\
 , SO14 3AD\, United Kingdom;X-APPLE-RADIUS=100;X-TITLE=St Micheal's Church
 :geo:0,0
END:VEVENT
END:VCALENDAR