BEGIN:VCALENDAR
VERSION:2.0
PRODID:-//wp-events-plugin.com//7.2.3.1//EN
BEGIN:VEVENT
UID:12@sarahsiddonsfanclub.org.uk
DTSTART:20250619T110000Z
DTEND:20250619T123000Z
DTSTAMP:20250625T224112Z
URL:https://sarahsiddonsfanclub.org.uk/events/sugar-slaves-seabathing-a-bl
 ack-history-month-hidden-history-walk/
SUMMARY:Sugar\, Slaves & Seabathing - A Black History Month Hidden History 
 Walk
DESCRIPTION:\n\nSouthampton in Jane Austen’s day was a watering place fam
 ed for sea bathing\, but it was also a town dominated\, in politics\, by t
 he ‘West Indian Party’ - plantation owners who fought against abolitio
 n and made their money from sugar and rum. It was a town of admirals\, shi
 pbuilders and colonialists who were at the forefront of a growing empire.\
 n\nThis walk is commissioned as part of the University of Southampton’s 
 Arts &amp\; Humanities Research Council-funded Maritime Communities resear
 ch project.\n\nStarting from Holy Rood Church\, High Street\, Southampton 
 SO14 3AU.
ATTACH;FMTTYPE=image/jpeg:https://sarahsiddonsfanclub.org.uk/wp-content/up
 loads/2025/01/ss-s.jpeg
LOCATION:Holyrood Church\, High Street\, Southampton\, SO14 3AU\, United Ki
 ngdom
X-APPLE-STRUCTURED-LOCATION;VALUE=URI;X-ADDRESS=High Street\, Southampton\,
  SO14 3AU\, United Kingdom;X-APPLE-RADIUS=100;X-TITLE=Holyrood Church:geo:
 0,0
END:VEVENT
END:VCALENDAR