BEGIN:VCALENDAR
VERSION:2.0
PRODID:-//wp-events-plugin.com//7.2.3.1//EN
BEGIN:VEVENT
UID:5@sarahsiddonsfanclub.org.uk
DTSTART:20241209T193000Z
DTEND:20241213T210000Z
DTSTAMP:20241029T231043Z
URL:https://sarahsiddonsfanclub.org.uk/events/the-strangers-guide-a-gothic
 -tale/
SUMMARY:The Strangers Guide: A Gothic Tale
DESCRIPTION:In 1793 Jane Austen visited Southampton in search of adventure 
 and with a liking for Gothic novels that were to inspire Northanger Abbey\
 , she was following in the footsteps of the founders of the Gothic movemen
 t Horace Walpole &amp\; Thomas Grey who had visited Southampton in search 
 of ghostly inspiration. Join The Sarah Siddons Fan Club Theatre for a jaun
 t around Old Southampton uncovering tales of ghosts\, guillotines\, and gr
 uesome stories\n\nA theatrical perambulations starting from Holy Rood Chur
 ch\, High Street\, Southampton\n\nWeGotTickets - Admin Area\n\n[caption id
 ="attachment_120" align="alignnone" width="300"] Images by Dana Dohotaru\,
  courtesy of 'a space' arts / God's House Tower.[/caption]
ATTACH;FMTTYPE=image/jpeg:https://sarahsiddonsfanclub.org.uk/wp-content/up
 loads/2024/10/A-Strangers-Tale-.jpg
END:VEVENT
END:VCALENDAR