BEGIN:VCALENDAR
VERSION:2.0
PRODID:-//wp-events-plugin.com//7.2.3.1//EN
BEGIN:VEVENT
UID:9@sarahsiddonsfanclub.org.uk
DTSTART:20250504T140000Z
DTEND:20250504T153000Z
DTSTAMP:20250125T123530Z
URL:https://sarahsiddonsfanclub.org.uk/events/trafalgar-day-costumed-guide
 d-walk/
SUMMARY:Trafalgar Day Costumed Guided Walk
DESCRIPTION:Walk in the company of the Sarah Siddons Fan Club Theatre.\n\nJ
 oin our costumed guides to hear Naval stories\, including links to Admiral
  Nelson and Frank Austen\, a tale of beef burgers\, flogging and gambling.
  Includes a visit to St Michael’s Church to view the ‘Admirals' Memori
 als’.\n\nStarting point Holy Rood Church\, High Street\, Southampton.\n\
 nPre-booking strongly advised.\n\nTickets: Trafalgar Days\n\n
ATTACH;FMTTYPE=image/jpeg:https://sarahsiddonsfanclub.org.uk/wp-content/up
 loads/2025/01/Trafalgar.jpeg
LOCATION:Holyrood Church\, High Street\, Southampton\, SO14 3AU\, United Ki
 ngdom
X-APPLE-STRUCTURED-LOCATION;VALUE=URI;X-ADDRESS=High Street\, Southampton\,
  SO14 3AU\, United Kingdom;X-APPLE-RADIUS=100;X-TITLE=Holyrood Church:geo:
 0,0
END:VEVENT
END:VCALENDAR